Workbook

Sheet Danh sách học sinh
A1: Họ và tên | B1: SĐT phụ huynh | C1: Email phụ huynh

Sheet Bảng điểm danh
A1: BẢNG ĐIỂM DANH HỌC SINH
A3: Lớp:
A4: Giáo viên:
A5: Tháng / Năm:
A6: Học phí / buổi (đ):
A7: Ký hiệu: x = có mặt · v = vắng (chọn từ danh sách xổ xuống). Tên học sinh tự lấy từ sheet "Danh sách học sinh".
A9: STT | B9: Họ và tên | C9: 1 | D9: 2 | E9: 3 | F9: 4 | G9: 5 | H9: 6 | I9: 7 | J9: 8 | K9: 9 | L9: 10 | M9: 11 | N9: 12 | O9: 13 | P9: 14 | Q9: 15 | R9: 16 | S9: 17 | T9: 18 | U9: 19 | V9: 20 | W9: 21 | X9: 22 | Y9: 23 | Z9: 24 | AA9: 25 | AB9: 26 | AC9: 27 | AD9: 28 | AE9: 29 | AF9: 30 | AG9: 31 | AH9: Số buổi | AI9: Có mặt | AJ9: Vắng | AK9: Tỷ lệ đi học (%) | AL9: Học phí (đ)
A10: 1 | B10: =IF('Danh sách học sinh'!A2="","",'Danh sách học sinh'!A2) | AH10: =AI10+AJ10 -> 0 | AI10: =COUNTIF(C10:AG10,"x") -> 0 | AJ10: =COUNTIF(C10:AG10,"v") -> 0 | AK10: =IF(AH10=0,"",AI10/AH10) | AL10: =IF($B$6="","",AI10*$B$6)
A11: 2 | B11: =IF('Danh sách học sinh'!A3="","",'Danh sách học sinh'!A3) | AH11: =AI11+AJ11 -> 0 | AI11: =COUNTIF(C11:AG11,"x") -> 0 | AJ11: =COUNTIF(C11:AG11,"v") -> 0 | AK11: =IF(AH11=0,"",AI11/AH11) | AL11: =IF($B$6="","",AI11*$B$6)
A12: 3 | B12: =IF('Danh sách học sinh'!A4="","",'Danh sách học sinh'!A4) | AH12: =AI12+AJ12 -> 0 | AI12: =COUNTIF(C12:AG12,"x") -> 0 | AJ12: =COUNTIF(C12:AG12,"v") -> 0 | AK12: =IF(AH12=0,"",AI12/AH12) | AL12: =IF($B$6="","",AI12*$B$6)
A13: 4 | B13: =IF('Danh sách học sinh'!A5="","",'Danh sách học sinh'!A5) | AH13: =AI13+AJ13 -> 0 | AI13: =COUNTIF(C13:AG13,"x") -> 0 | AJ13: =COUNTIF(C13:AG13,"v") -> 0 | AK13: =IF(AH13=0,"",AI13/AH13) | AL13: =IF($B$6="","",AI13*$B$6)
A14: 5 | B14: =IF('Danh sách học sinh'!A6="","",'Danh sách học sinh'!A6) | AH14: =AI14+AJ14 -> 0 | AI14: =COUNTIF(C14:AG14,"x") -> 0 | AJ14: =COUNTIF(C14:AG14,"v") -> 0 | AK14: =IF(AH14=0,"",AI14/AH14) | AL14: =IF($B$6="","",AI14*$B$6)
A15: 6 | B15: =IF('Danh sách học sinh'!A7="","",'Danh sách học sinh'!A7) | AH15: =AI15+AJ15 -> 0 | AI15: =COUNTIF(C15:AG15,"x") -> 0 | AJ15: =COUNTIF(C15:AG15,"v") -> 0 | AK15: =IF(AH15=0,"",AI15/AH15) | AL15: =IF($B$6="","",AI15*$B$6)
A16: 7 | B16: =IF('Danh sách học sinh'!A8="","",'Danh sách học sinh'!A8) | AH16: =AI16+AJ16 -> 0 | AI16: =COUNTIF(C16:AG16,"x") -> 0 | AJ16: =COUNTIF(C16:AG16,"v") -> 0 | AK16: =IF(AH16=0,"",AI16/AH16) | AL16: =IF($B$6="","",AI16*$B$6)
A17: 8 | B17: =IF('Danh sách học sinh'!A9="","",'Danh sách học sinh'!A9) | AH17: =AI17+AJ17 -> 0 | AI17: =COUNTIF(C17:AG17,"x") -> 0 | AJ17: =COUNTIF(C17:AG17,"v") -> 0 | AK17: =IF(AH17=0,"",AI17/AH17) | AL17: =IF($B$6="","",AI17*$B$6)
A18: 9 | B18: =IF('Danh sách học sinh'!A10="","",'Danh sách học sinh'!A10) | AH18: =AI18+AJ18 -> 0 | AI18: =COUNTIF(C18:AG18,"x") -> 0 | AJ18: =COUNTIF(C18:AG18,"v") -> 0 | AK18: =IF(AH18=0,"",AI18/AH18) | AL18: =IF($B$6="","",AI18*$B$6)
A19: 10 | B19: =IF('Danh sách học sinh'!A11="","",'Danh sách học sinh'!A11) | AH19: =AI19+AJ19 -> 0 | AI19: =COUNTIF(C19:AG19,"x") -> 0 | AJ19: =COUNTIF(C19:AG19,"v") -> 0 | AK19: =IF(AH19=0,"",AI19/AH19) | AL19: =IF($B$6="","",AI19*$B$6)
A20: 11 | B20: =IF('Danh sách học sinh'!A12="","",'Danh sách học sinh'!A12) | AH20: =AI20+AJ20 -> 0 | AI20: =COUNTIF(C20:AG20,"x") -> 0 | AJ20: =COUNTIF(C20:AG20,"v") -> 0 | AK20: =IF(AH20=0,"",AI20/AH20) | AL20: =IF($B$6="","",AI20*$B$6)
A21: 12 | B21: =IF('Danh sách học sinh'!A13="","",'Danh sách học sinh'!A13) | AH21: =AI21+AJ21 -> 0 | AI21: =COUNTIF(C21:AG21,"x") -> 0 | AJ21: =COUNTIF(C21:AG21,"v") -> 0 | AK21: =IF(AH21=0,"",AI21/AH21) | AL21: =IF($B$6="","",AI21*$B$6)
... A49: 40 | B49: =IF('Danh sách học sinh'!A41="","",'Danh sách học sinh'!A41) | AH49: =AI49+AJ49 -> 0 | AI49: =COUNTIF(C49:AG49,"x") -> 0 | AJ49: =COUNTIF(C49:AG49,"v") -> 0 | AK49: =IF(AH49=0,"",AI49/AH49) | AL49: =IF($B$6="","",AI49*$B$6)
B50: Có mặt mỗi buổi | C50: =COUNTIF(C10:C49,"x") -> 0 | D50: =COUNTIF(D10:D49,"x") -> 0 | E50: =COUNTIF(E10:E49,"x") -> 0 | F50: =COUNTIF(F10:F49,"x") -> 0 | G50: =COUNTIF(G10:G49,"x") -> 0 | H50: =COUNTIF(H10:H49,"x") -> 0 | I50: =COUNTIF(I10:I49,"x") -> 0 | J50: =COUNTIF(J10:J49,"x") -> 0 | ... AG50: =COUNTIF(AG10:AG49,"x") -> 0 | AH50: =SUM(AH10:AH49) -> 0 | AI50: =SUM(AI10:AI49) -> 0 | AJ50: =SUM(AJ10:AJ49) -> 0
A52: Muốn điểm danh online tự động (quét QR, nhận diện khuôn mặt) và tự tính học phí cho cả lớp: https://diemdanh.app

Sheet Hướng dẫn
A1: FILE MẪU ĐIỂM DANH HỌC SINH — diemdanh.app
A3: 1) Sheet "Danh sách học sinh": nhập Họ và tên (bắt buộc), SĐT và Email phụ huynh (tùy chọn). Mỗi dòng một học sinh, bắt đầu từ dòng 2.
A4: 2) Sheet "Bảng điểm danh": tên học sinh tự lấy từ sheet 1. Mỗi buổi chọn x (có mặt) hoặc v (vắng) ở cột ngày tương ứng. Số buổi, Có mặt, Vắng, Tỷ lệ đi học và Học phí tự tính. Nhập học phí mỗi buổi ở ô "Học phí / buổi" (học phí = số buổi có mặt × học phí/buổi).
A6: ĐƯA DANH SÁCH VÀO ĐIỂM DANH APP ĐỂ ĐIỂM DANH ONLINE TỰ ĐỘNG
A7: • Lưu file dạng .xlsx. Đăng nhập diemdanh.app (chưa có tài khoản thì đăng ký miễn phí), bấm "+ Lớp mới": điền tên lớp, học phí/buổi, lịch học.
A8: • Vào lớp → Học sinh → "+ Thêm học sinh" → tab "Nhập File Excel" → chọn lớp → chọn file này → bấm "Nhập học sinh". Hệ thống đọc sheet "Danh sách học sinh" và thêm học sinh vào lớp.
A9: • Chỉ nhập mỗi danh sách một lần: nhập lại cùng file sẽ tạo học sinh trùng. Khi có bạn mới, chỉ điền học sinh mới rồi nhập thêm.
A10: • Điểm danh mỗi buổi: chọn lớp → "Điểm danh ngay" → đánh dấu có mặt/vắng → "Lưu điểm danh"; hoặc cho học sinh tự quét mã QR / nhận diện khuôn mặt. Báo cáo, tỷ lệ đi học và học phí được tính tự động, xuất Excel/PDF bất cứ lúc nào.
A12: Hướng dẫn chi tiết: https://diemdanh.app/mau-bang-diem-danh-hoc-sinh
